BEGIN:VCALENDAR
VERSION:2.0
PRODID:-//Nature: Accessible for All - ECPv6.15.20//NONSGML v1.0//EN
CALSCALE:GREGORIAN
METHOD:PUBLISH
X-WR-CALNAME:Nature: Accessible for All
X-ORIGINAL-URL:https://www.accessnaturenj.org
X-WR-CALDESC:Events for Nature: Accessible for All
REFRESH-INTERVAL;VALUE=DURATION:PT1H
X-Robots-Tag:noindex
X-PUBLISHED-TTL:PT1H
BEGIN:VTIMEZONE
TZID:America/New_York
BEGIN:DAYLIGHT
TZOFFSETFROM:-0500
TZOFFSETTO:-0400
TZNAME:EDT
DTSTART:20250309T070000
END:DAYLIGHT
BEGIN:STANDARD
TZOFFSETFROM:-0400
TZOFFSETTO:-0500
TZNAME:EST
DTSTART:20251102T060000
END:STANDARD
BEGIN:DAYLIGHT
TZOFFSETFROM:-0500
TZOFFSETTO:-0400
TZNAME:EDT
DTSTART:20260308T070000
END:DAYLIGHT
BEGIN:STANDARD
TZOFFSETFROM:-0400
TZOFFSETTO:-0500
TZNAME:EST
DTSTART:20261101T060000
END:STANDARD
BEGIN:DAYLIGHT
TZOFFSETFROM:-0500
TZOFFSETTO:-0400
TZNAME:EDT
DTSTART:20270314T070000
END:DAYLIGHT
BEGIN:STANDARD
TZOFFSETFROM:-0400
TZOFFSETTO:-0500
TZNAME:EST
DTSTART:20271107T060000
END:STANDARD
END:VTIMEZONE
BEGIN:VEVENT
DTSTART;TZID=America/New_York:20260414T130000
DTEND;TZID=America/New_York:20260428T150000
DTSTAMP:20260421T060607
CREATED:20251112T202535Z
LAST-MODIFIED:20251112T202535Z
UID:4711-1776171600-1777388400@www.accessnaturenj.org
SUMMARY:Trail Towns 101: Strategies\, Tools and Inspiration to Make Trails Work for Your Community
DESCRIPTION:Trail Towns 101 is offered once a year\, in the spring\, giving you plenty of time to take advantage of the summer trail season and all of the opportunities it brings to make your community more trail-friendly. \nPut the transformative power of trails to work. This inspiring course is a call to action\, a source of new ideas\, and a practical guide for communities looking to harness the benefits of their local trails. Ideal for trail lovers\, local leaders\, and economic development professionals\, this program delivers the insights and tools you need to turn your community into a thriving trail town. Trail Towns 101 is packed with information\, resources\, how-tos and real-world examples — and plenty of opportunities to learn from other trail communities. \nAfter the course wraps up\, an optional Trail Town Assessment Accelerator will help you jumpstart your journey toward building successful trail towns using a fun and engaging on-the-ground assessment tool. The two-hour Accelerator is included with your registration fee\, and so is an hour of one-on-one or team coaching to address your particular situation. \nInstructors: Amy Camp (Cycle Forward) and Michele Archie (The Harbinger Consultancy) \nThese webinars are held on Tuesdays\, ApriL 14-28\, 2026\, 10-12 PT/1-3 ET + Optional trail towns assessment session\, May 5
URL:https://www.accessnaturenj.org/event/trail-towns-101-strategies-tools-and-inspiration-to-make-trails-work-for-your-community/
LOCATION:NJ
ATTACH;FMTTYPE=image/jpeg:https://www.accessnaturenj.org/wp-content/uploads/2025/07/Resized-Great-Swamp-20.jpg
END:VEVENT
BEGIN:VEVENT
DTSTART;TZID=America/New_York:20260420T080000
DTEND;TZID=America/New_York:20260423T170000
DTSTAMP:20260421T060607
CREATED:20251020T200423Z
LAST-MODIFIED:20260227T160438Z
UID:4621-1776672000-1776963600@www.accessnaturenj.org
SUMMARY:Move United Education Conference
DESCRIPTION:Move United Education Conference in Cape Cod\, Massachusetts \n  \nHosted in collaboration with Spaulding Rehabilitation Adaptive Sports Centers. More than 500 adaptive sport leaders\, coaches\, and advocates will unite from across the country for the 2026 Move United Education Conference—the nation’s premier adaptive sports education event. Get in the game with this year’s theme\, ‘Breaking Barriers\, Building Community\,’ challenging every attendee to push boundaries and ignite change in their communities. Over four dynamic days\, you’ll engage in hands-on training\, emboldening keynotes\, sport demonstrations\, and meaningful connections that fuel the next level of your impact. Whether you lead a national organization or volunteer locally\, you’ll leave with fresh strategies\, a stronger network\, and the tools to create lasting change. \n 
URL:https://www.accessnaturenj.org/event/move-united-education-conference/
LOCATION:NJ
ATTACH;FMTTYPE=image/png:https://www.accessnaturenj.org/wp-content/uploads/2025/10/Move-United_70th-Logo_Digital-e1768280064969.png
END:VEVENT
BEGIN:VEVENT
DTSTART;TZID=America/New_York:20260421T083000
DTEND;TZID=America/New_York:20260421T160000
DTSTAMP:20260421T060607
CREATED:20260415T180433Z
LAST-MODIFIED:20260415T180433Z
UID:5321-1776760200-1776787200@www.accessnaturenj.org
SUMMARY:The 2026 NJDOT Complete Streets Summit
DESCRIPTION:The 2026 NJDOT Complete Streets Summit\, sponsored by the New Jersey Department of Transportation\, will be held on Tuesday\, April 21\, 2026 at the College Avenue Campus Student Center at Rutgers University in New Brunswick. \nComplete Streets are streets designed for all road users based on the specific context and needs of your community. The Complete Streets Summit brings together planners\, engineers\, public officials\, health professionals\, advocates\, and others involved with shaping communities throughout New Jersey. Summit session topics will include institutionalizing Complete and Green Streets policies\, lessons learned from implementation\, and what is in store for the Complete Streets movement.
URL:https://www.accessnaturenj.org/event/the-2026-njdot-complete-streets-summit/
LOCATION:College Avenue Campus Student Center- Rutgers University\, New Brunswick.\, 126 College Ave\, New Brunswick\, NJ\, 08901\, United States
END:VEVENT
END:VCALENDAR